








BEGIN:VCALENDAR
VERSION:2.0
PRODID:-//Villa Roma Resort - ECPv6.15.13//NONSGML v1.0//EN
CALSCALE:GREGORIAN
METHOD:PUBLISH
X-WR-CALNAME:Villa Roma Resort
X-ORIGINAL-URL:https://villaroma.com
X-WR-CALDESC:Events for Villa Roma Resort
REFRESH-INTERVAL;VALUE=DURATION:PT1H
X-Robots-Tag:noindex
X-PUBLISHED-TTL:PT1H
BEGIN:VTIMEZONE
TZID:America/New_York
BEGIN:DAYLIGHT
TZOFFSETFROM:-0500
TZOFFSETTO:-0400
TZNAME:EDT
DTSTART:20250309T070000
END:DAYLIGHT
BEGIN:STANDARD
TZOFFSETFROM:-0400
TZOFFSETTO:-0500
TZNAME:EST
DTSTART:20251102T060000
END:STANDARD
BEGIN:DAYLIGHT
TZOFFSETFROM:-0500
TZOFFSETTO:-0400
TZNAME:EDT
DTSTART:20260308T070000
END:DAYLIGHT
BEGIN:STANDARD
TZOFFSETFROM:-0400
TZOFFSETTO:-0500
TZNAME:EST
DTSTART:20261101T060000
END:STANDARD
BEGIN:DAYLIGHT
TZOFFSETFROM:-0500
TZOFFSETTO:-0400
TZNAME:EDT
DTSTART:20270314T070000
END:DAYLIGHT
BEGIN:STANDARD
TZOFFSETFROM:-0400
TZOFFSETTO:-0500
TZNAME:EST
DTSTART:20271107T060000
END:STANDARD
END:VTIMEZONE
BEGIN:VEVENT
DTSTART;TZID=America/New_York:20260425T210000
DTEND;TZID=America/New_York:20260425T210000
DTSTAMP:20260422T082556
CREATED:20260409T181739Z
LAST-MODIFIED:20260411T165202Z
UID:38126-1777150800-1777150800@villaroma.com
SUMMARY:Magic. Mystery. Expect the Impossible – John Hoey
DESCRIPTION:Step into an extraordinary night of enchantment and bewilderment as John Hoey presents “Magic. Mystery. Expect the Impossible.” Set amidst an intimate ambiance\, this one-night-only spectacle on April 25\, 2026\, at 9:00 PM promises to transport you into a realm where the improbable becomes reality. John Hoey\, an acclaimed maestro of illusion\, invites you to suspend your disbelief and indulge in the art of the unbelievable. \nThrough deft sleight-of-hand and astonishing mind-bending tricks\, John weaves a intricate narrative\, leaving you mesmerized at every turn. His enigmatic storytelling not only entertains but engages the very fibers of your imagination—leading you to question the boundaries between reality and illusion. Each illusion is crafted with precision\, mesmerizing the audience and offering a theatrical experience like no other. \nSecure your seat for this unforgettable journey into the unknown. Tickets are limited and sell quickly; guarantee your place at this mystifying event. Allow yourself to be captivated and invite others to witness this sensory feast. Don’t miss the magic that awaits – secure your ticket today and prepare to believe in the impossible. \n 
URL:https://villaroma.com/entertainment/magic-mystery-expect-the-impossible-john-howy/
CATEGORIES:Featured Events
ATTACH;FMTTYPE=image/png:https://villaroma.com/wp-content/uploads/2026/04/John-Hoey.-web-2.png
END:VEVENT
END:VCALENDAR