








BEGIN:VCALENDAR
VERSION:2.0
PRODID:-//Villa Roma Resort - ECPv6.15.13//NONSGML v1.0//EN
CALSCALE:GREGORIAN
METHOD:PUBLISH
X-ORIGINAL-URL:https://villaroma.com
X-WR-CALDESC:Events for Villa Roma Resort
REFRESH-INTERVAL;VALUE=DURATION:PT1H
X-Robots-Tag:noindex
X-PUBLISHED-TTL:PT1H
BEGIN:VTIMEZONE
TZID:America/New_York
BEGIN:DAYLIGHT
TZOFFSETFROM:-0500
TZOFFSETTO:-0400
TZNAME:EDT
DTSTART:20250309T070000
END:DAYLIGHT
BEGIN:STANDARD
TZOFFSETFROM:-0400
TZOFFSETTO:-0500
TZNAME:EST
DTSTART:20251102T060000
END:STANDARD
BEGIN:DAYLIGHT
TZOFFSETFROM:-0500
TZOFFSETTO:-0400
TZNAME:EDT
DTSTART:20260308T070000
END:DAYLIGHT
BEGIN:STANDARD
TZOFFSETFROM:-0400
TZOFFSETTO:-0500
TZNAME:EST
DTSTART:20261101T060000
END:STANDARD
BEGIN:DAYLIGHT
TZOFFSETFROM:-0500
TZOFFSETTO:-0400
TZNAME:EDT
DTSTART:20270314T070000
END:DAYLIGHT
BEGIN:STANDARD
TZOFFSETFROM:-0400
TZOFFSETTO:-0500
TZNAME:EST
DTSTART:20271107T060000
END:STANDARD
END:VTIMEZONE
BEGIN:VEVENT
DTSTART;TZID=America/New_York:20260512T100000
DTEND;TZID=America/New_York:20260512T100000
DTSTAMP:20260419T105249
CREATED:20260317T130239Z
LAST-MODIFIED:20260317T133548Z
UID:37020-1778580000-1778580000@villaroma.com
SUMMARY:An Afternoon with Frank & Dino
DESCRIPTION:Step back into the golden era of music and entertainment with Frank & Dino\, a spectacular tribute to two of the greatest voices of all time—Frank Sinatra and Dean Martin. This special day trip event at The Villa Roma combines live entertainment\, dining\, and a full afternoon of fun and relaxation. \nEnjoy timeless classics\, humor\, and charisma as two outstanding performers bring the Rat Pack spirit to life. \nJesse Posa as Frank Sinatra\nA graduate of the prestigious Tisch School of the Arts at New York University\, Jesse Posa studied acting at the Lee Strasberg Institute and has become one of the country’s leading Frank Sinatra tribute artists. He has performed as Sinatra at Radio City Music Hall\, in the Off-Broadway production “Sinatra & Friends\,” at BB King’s in Times Square in Party with the Rat Pack\, and even appeared as Sinatra on the TV show Impractical Jokers. \nJoe Perce as Dean Martin\nAward-winning performer Joe Perce brings Dean Martin’s charm and humor to the stage. A 1987 CLEO Award winner\, Joe has appeared in numerous national commercials including Snickers\, Mercedes\, Olive Garden\, Suncom\, and E-Trade. With over 25 years in improvisational comedy\, he has performed with acclaimed groups including Chicago City Limits and Comedy Olympics\, and was named Best Improvisational Comic of 1989 by BACKSTAGE Magazine. His film and television credits include Black Rain\, Law & Order\, The Equalizer\, MTV\, Comedy Central\, and more. \nTogether\, Frank & Dino deliver an unforgettable performance celebrating the music\, humor\, and style of the legendary Rat Pack. \n2026 Day Trip Itinerary\n10:00 – 10:30 AM\nArrival\, Coffee & Cake\nEnter our raffle for a chance to win a two-night stay for two at The Villa Roma! The winner will be announced before the matinee show. \n11:00 AM\nMorning Activity or Free Time \n12:00 PM\nFour-Course Served Luncheon \n1:00 PM\nAfternoon Activity or Free Time \n2:00 PM\nShowtime in the Forum Nightclub – An Afternoon with Frank & Dino \nAfter the Show (approx. 3:30 PM)\nDeparture Time or stay and enjoy Bingo in the Forum Nightclub \nAdditional Resort Amenities\nDay trip guests can also enjoy access to: \n\nIndoor pool & Jacuzzi\nGame room featuring bocce\, shuffleboard\, ping pong\, and billiards\nFitness center\nDaily activity schedule\n\nExperience a day of great food\, entertainment\, and classic music at The Villa Roma Resort & Conference Center in the Catskills. \nFor transportation arrangements\, please contact your local motorcoach company. \n 
URL:https://villaroma.com/entertainment/an-afternoon-with-frank-dino/
CATEGORIES:Day Trips
ATTACH;FMTTYPE=image/webp:https://villaroma.com/wp-content/uploads/2026/03/FRANK-DINO.webp
END:VEVENT
END:VCALENDAR