








BEGIN:VCALENDAR
VERSION:2.0
PRODID:-//Villa Roma Resort - ECPv6.15.13//NONSGML v1.0//EN
CALSCALE:GREGORIAN
METHOD:PUBLISH
X-WR-CALNAME:Villa Roma Resort
X-ORIGINAL-URL:https://villaroma.com
X-WR-CALDESC:Events for Villa Roma Resort
REFRESH-INTERVAL;VALUE=DURATION:PT1H
X-Robots-Tag:noindex
X-PUBLISHED-TTL:PT1H
BEGIN:VTIMEZONE
TZID:America/New_York
BEGIN:DAYLIGHT
TZOFFSETFROM:-0500
TZOFFSETTO:-0400
TZNAME:EDT
DTSTART:20250309T070000
END:DAYLIGHT
BEGIN:STANDARD
TZOFFSETFROM:-0400
TZOFFSETTO:-0500
TZNAME:EST
DTSTART:20251102T060000
END:STANDARD
BEGIN:DAYLIGHT
TZOFFSETFROM:-0500
TZOFFSETTO:-0400
TZNAME:EDT
DTSTART:20260308T070000
END:DAYLIGHT
BEGIN:STANDARD
TZOFFSETFROM:-0400
TZOFFSETTO:-0500
TZNAME:EST
DTSTART:20261101T060000
END:STANDARD
BEGIN:DAYLIGHT
TZOFFSETFROM:-0500
TZOFFSETTO:-0400
TZNAME:EDT
DTSTART:20270314T070000
END:DAYLIGHT
BEGIN:STANDARD
TZOFFSETFROM:-0400
TZOFFSETTO:-0500
TZNAME:EST
DTSTART:20271107T060000
END:STANDARD
END:VTIMEZONE
BEGIN:VEVENT
DTSTART;TZID=America/New_York:20260418T100000
DTEND;TZID=America/New_York:20260418T100000
DTSTAMP:20260424T044142
CREATED:20260415T180038Z
LAST-MODIFIED:20260417T201317Z
UID:38333-1776506400-1776506400@villaroma.com
SUMMARY:Gentle Slow Flow Yoga with Kelly Murphy
DESCRIPTION:Start your day with intention\, movement\, and mindful connection at The Villa Roma. Join resident practitioner Kelly Murphy for a gentle\, breath-led yoga experience designed for all levels—perfect for beginners as well as those looking to slow down and reconnect. \nThis one-hour session begins with a calming seated visualization\, guiding you inward before transitioning into a series of slow\, mindful movements. Each pose is thoughtfully paced to create space for breath\, expansion\, and introspection\, helping you build a deeper connection between body and mind. \nPostures are offered at a foundational level\, with optional modifications for those who wish to explore further\, ensuring a comfortable and supportive experience for every participant. \nYou’ll leave feeling open in your heart\, relaxed in your body\, and refreshed—ready to carry a sense of balance and clarity into the rest of your day.
URL:https://villaroma.com/entertainment/gentle-slow-flow-yoga-with-kelly-murphy/
CATEGORIES:Health & Horizon
ATTACH;FMTTYPE=image/png:https://villaroma.com/wp-content/uploads/2026/04/33.png
END:VEVENT
BEGIN:VEVENT
DTSTART;TZID=America/New_York:20260418T130000
DTEND;TZID=America/New_York:20260418T130000
DTSTAMP:20260424T044142
CREATED:20260415T180508Z
LAST-MODIFIED:20260417T201614Z
UID:38337-1776517200-1776517200@villaroma.com
SUMMARY:Meditation with Kelly Murphy
DESCRIPTION:Pause\, breathe\, and return to the present moment at The Villa Roma. Join resident wellness practitioner Kelly Murphy for a guided meditation experience designed to bring clarity\, calm\, and deeper connection. \nThrough gentle guidance\, this session invites you to observe your breath\, thoughts\, and body sensations with awareness—allowing you to step back\, reflect\, and simply be. Meditation offers a space to reconnect with yourself\, cultivating mindfulness and a sense of balance that extends beyond the moment. \nPracticing together in a शांत and supportive setting enhances the experience\, helping you move inward and discover a deeper sense of stillness and presence. \nYou’ll leave feeling clearer\, lighter\, and more grounded—carrying a renewed sense of awareness into your day and beyond.
URL:https://villaroma.com/entertainment/meditation-with-kelly-murphy/
CATEGORIES:Health & Horizon
ATTACH;FMTTYPE=image/png:https://villaroma.com/wp-content/uploads/2026/04/31.png
END:VEVENT
BEGIN:VEVENT
DTSTART;TZID=America/New_York:20260418T160000
DTEND;TZID=America/New_York:20260418T160000
DTSTAMP:20260424T044142
CREATED:20260409T155223Z
LAST-MODIFIED:20260417T190848Z
UID:38102-1776528000-1776528000@villaroma.com
SUMMARY:Sound & Soul: A Restorative Sound Healing Experience
DESCRIPTION:Step into a deeply calming\, immersive wellness journey at The Villa Roma with Sound & Soul\, a guided sound healing experience led by our certified practitioners-in-residence Lisa Martinelli \nThis thoughtfully designed session uses layers of therapeutic sound—including Tibetan singing bowls\, crystal bowls\, ZenChimes\, Koshi chimes\, tuning forks\, and Indigenous instruments—to gently guide the body and mind into a deeply relaxed\, restorative state. The experience begins with gentle pranayama (breathwork) and seated movement\, followed by a full sound spa immersion that supports rest\, balance\, and renewal. \nSound & Soul is a welcoming and accessible experience\, designed for all bodies and all levels of familiarity with wellness practices. Whether you are new to sound healing or returning to it\, this session invites you to slow down\, reset\, and reconnect. \nBenefits May Include\nDeep relaxation and stress relief \nEnhanced focus and mindfulness \nEmotional balance and grounding \nSupport for the body’s natural rest-and-digest response \nEvent Details\nDates: April 18th \nTime: 4:00 PM (please arrive a few minutes early) \nLocation: The Villa Roma Resort \nPricing: \n$30.00 for local and city guests \nComplimentary for Timeshare/Hotel Guests \nImportant Note: \nTo preserve the integrity of the experience\, late arrivals cannot be admitted once the session begins. \nReserve your space and enjoy an evening of stillness\, sound\, and restoration at The Villa Roma. \n 
URL:https://villaroma.com/entertainment/sound-soul-a-restorative-sound-healing-experience-5/
CATEGORIES:Health & Horizon
ATTACH;FMTTYPE=image/jpeg:https://villaroma.com/wp-content/uploads/2026/04/Lisa-Martinelli-web-2.jpg.jpeg
END:VEVENT
BEGIN:VEVENT
DTSTART;TZID=America/New_York:20260418T180000
DTEND;TZID=America/New_York:20260418T180000
DTSTAMP:20260424T044142
CREATED:20260409T155651Z
LAST-MODIFIED:20260411T100609Z
UID:38106-1776535200-1776535200@villaroma.com
SUMMARY:Live Music Experience with BJ
DESCRIPTION:Step into an enchanting evening where music transforms into magic with the versatile BJ Hendrickson. On April 18\, 2026\, at 6:00 PM\, let BJ take you on a melodious journey marked by his smooth\, captivating vocals and a diverse set list that effortlessly interlaces timeless classics with modern-day gems. His artistry promises an experience that resonates soulfully and holistically\, crafted perfectly for those savoring the day’s hectic pace or embarking on a nocturnal adventure. \nNestled in an intimate venue\, this performance presents a unique opportunity to immerse yourself in an ambiance of relaxation combined with vibrant energy. BJ’s acoustic mastery is designed to ensnare your senses\, turning familiar chords into catalysts of nostalgia and joy. The magic of live music comes alive in a charming yet lively atmosphere\, promising a memorable moment for both seasoned concertgoers and eager newcomers alike. \nDon’t miss out on this one-time spectacle\, where every note played is a thread in the tapestry of an unforgettable evening. Place yourself amid the harmonic symphony crafted by BJ to not only hear but feel the rhythm of every melody. Secure your tickets now and be part of a night that promises entrancing serenity and extraordinary musical excellence. \n 
URL:https://villaroma.com/entertainment/live-music-experience-with-bj/
CATEGORIES:Featured Events
ATTACH;FMTTYPE=image/jpeg:https://villaroma.com/wp-content/uploads/2026/04/BJ-web.jpg.jpeg
END:VEVENT
BEGIN:VEVENT
DTSTART;TZID=America/New_York:20260418T210000
DTEND;TZID=America/New_York:20260418T210000
DTSTAMP:20260424T044142
CREATED:20260409T160521Z
LAST-MODIFIED:20260411T101740Z
UID:38110-1776546000-1776546000@villaroma.com
SUMMARY:Family Comedy Show with Chris Johnston
DESCRIPTION:Step into an evening of chuckles and cheer as the Family Comedy Show with Chris Johnston lights up the night on April 18\, 2026\, at 9:00 PM. Known for his electrifying presence and mastery of laugh-out-loud moments\, Chris invites families to gather and enjoy a tapestry of humor crafted to delight audiences of every generation. His comedic storytelling\, paired with a talent for capturing the whimsy in everyday life\, guarantees an unforgettable experience that tickles funny bones and warms hearts. \nThe stage will burst into laughter as Chris delivers a performance teeming with charm\, clever quips\, and captivating narratives. Each jest and tale is meticulously chosen to speak to the universal family experience\, ensuring that everyone from grandparents to children finds joy and connection in the shared experience of laughter. Whether it’s spotting the humor in daily mishaps or celebrating what makes family life special\, Chris Johnston turns ordinary into extraordinary with ease. \nDon’t miss out on this one-performance-only event that promises to be more than just a comedy show—it’s a night to remember with your loved ones. Reserve your seats now and get ready for a spectacular affair that will enrich your bond with each other\, one laugh at a time. Secure your tickets today and join us for a delightful escape filled with joy and wit! \n 
URL:https://villaroma.com/entertainment/family-comedy-show-with-chris-johnston/
CATEGORIES:Featured Events
ATTACH;FMTTYPE=image/png:https://villaroma.com/wp-content/uploads/2026/04/Chris-Johnston-web.png
END:VEVENT
END:VCALENDAR